BEGIN:VCALENDAR
VERSION:2.0
PRODID:-//wp-events-plugin.com//6.3//EN
BEGIN:VEVENT
UID:75@memocscenter.univaq.it
DTSTART;VALUE=DATE:20260611
DTEND;VALUE=DATE:20260619
DTSTAMP:20250811T133237Z
URL:http://memocscenter.univaq.it/memocs/en/events/4th-international-confe
 rence-on-nonlinear-solid-mechanics-iconsom-2026-june-11-18-2024-alghero-sa
 rdinia-italy/
SUMMARY:4th International Conference on Nonlinear Solid Mechanics (ICoNSoM 
 2026) June 11-18\, 2026\, Alghero\, Sardinia\, Italy.
DESCRIPTION:4th International Conference on Nonlinear Solid Mechanics (ICoN
 SoM 2026)\nJune 11-18\, 2026\, Alghero\, Sardinia\, Italy.\n\nOrganized by
  the International Research Center on Mathematics and Mechanics of Complex
  Systems (M&MoCS) of the University of L’Aquila and the Westlake Univers
 ity\, Dynamics and Vibrations of Systems and Structures Lab\, China in col
 laboration with the Department of Architecture of the University of Sassar
 i \, Italy\n\nFor more information visit the Website
CATEGORIES:Conference
END:VEVENT
END:VCALENDAR